2.438400
0.000000
0.000000
-2.438400
662384.863680
4749760.904990
