2.438400
0.000000
0.000000
-2.438400
663405.929191
4694250.897091
