2.438400000000
0.000000000000
0.000000000000
-2.438400000000
611978.723015423398
4720831.662034697831
