2.438400000000
0.000000000000
0.000000000000
-2.438400000000
652359.860508703743
4749449.711131540127
