2.438400000000
0.000000000000
0.000000000000
-2.438400000000
601933.660247594235
4706779.843890306540
