2.438400000000
0.000000000000
0.000000000000
-2.438400000000
631674.103522101650
4762874.099285721779
