2.438400000000
0.000000000000
0.000000000000
-2.438400000000
581883.404433072661
4664832.430339300074
