2.438400000000
0.000000000000
0.000000000000
-2.438400000000
591663.151050101733
4706619.599040808156
