2.438400
0.000000
0.000000
-2.438400
742749.355073
4488168.831446
