25.400000
0.000000
0.000000
-25.400000
576194.145825
4549329.217522
