2.438400000000
0.000000000000
0.000000000000
-2.438400000000
570394.871423176840
4762010.340655182500
