2.438400000000
0.000000000000
0.000000000000
-2.438400000000
364993.539911409257
4693415.007922234010
