2.438400000000
0.000000000000
0.000000000000
-2.438400000000
354678.043199214269
4693620.089551185250
