2.438400000000
0.000000000000
0.000000000000
-2.438400000000
356112.489259117632
4763021.685006734910
