2.438400000000
0.000000000000
0.000000000000
-2.438400000000
345898.940130554896
4763243.080821149980
