2.438400000000
0.000000000000
0.000000000000
-2.438400000000
364729.479986329970
4679536.119801078920
