2.438400000000
0.000000000000
0.000000000000
-2.438400000000
354108.808786034176
4665862.460913434620
