2.438400000000
0.000000000000
0.000000000000
-2.438400000000
335687.079011548950
4763479.128721877930
