2.438400000000
0.000000000000
0.000000000000
-2.438400000000
406070.714230284385
4678863.600089167240
