2.438400000000
0.000000000000
0.000000000000
-2.438400000000
375064.491163056576
4679344.468959582030
