2.438400000000
0.000000000000
0.000000000000
-2.438400000000
395939.152195231697
4692889.163037916640
