2.438400000000
0.000000000000
0.000000000000
-2.438400000000
386750.581571825779
4762449.858917217700
