2.438400000000
0.000000000000
0.000000000000
-2.438400000000
386523.744735793559
4748569.239279800090
