2.438400000000
0.000000000000
0.000000000000
-2.438400000000
334374.395483547181
4707957.495475191620
