2.438400000000
0.000000000000
0.000000000000
-2.438400000000
366326.450527230103
4762814.942487197920
