2.438400000000
0.000000000000
0.000000000000
-2.438400000000
365524.429938401619
4721175.227814868090
