2.438400000000
0.000000000000
0.000000000000
-2.438400000000
396551.939552158059
4734529.360523996870
