2.438400000000
0.000000000000
0.000000000000
-2.438400000000
250704.816636421830
4668587.982082909900
