2.438400000000
0.000000000000
0.000000000000
-2.438400000000
294578.120345855310
4750534.695935855600
