2.438400000000
0.000000000000
0.000000000000
-2.438400000000
304422.089945896820
4736356.259562947800
