2.438400000000
0.000000000000
0.000000000000
-2.438400000000
282627.818192495440
4695323.389550761300
