2.438400000000
0.000000000000
0.000000000000
-2.438400000000
302873.329411306070
4680834.369124568100
