2.438400000000
0.000000000000
0.000000000000
-2.438400000000
261061.817777407730
4668231.211793833400
