2.438400000000
0.000000000000
0.000000000000
-2.438400000000
293759.568297840480
4722772.064134478600
