2.438400000000
0.000000000000
0.000000000000
-2.438400000000
303644.823645484110
4708595.585811850600
